BEGIN:VCALENDAR
VERSION:2.0
PRODID:-//Cause of America - ECPv6.15.20//NONSGML v1.0//EN
CALSCALE:GREGORIAN
METHOD:PUBLISH
X-WR-CALNAME:Cause of America
X-ORIGINAL-URL:https://causeofamerica.org
X-WR-CALDESC:Events for Cause of America
REFRESH-INTERVAL;VALUE=DURATION:PT1H
X-Robots-Tag:noindex
X-PUBLISHED-TTL:PT1H
BEGIN:VTIMEZONE
TZID:America/New_York
BEGIN:DAYLIGHT
TZOFFSETFROM:-0500
TZOFFSETTO:-0400
TZNAME:EDT
DTSTART:20240310T070000
END:DAYLIGHT
BEGIN:STANDARD
TZOFFSETFROM:-0400
TZOFFSETTO:-0500
TZNAME:EST
DTSTART:20241103T060000
END:STANDARD
BEGIN:DAYLIGHT
TZOFFSETFROM:-0500
TZOFFSETTO:-0400
TZNAME:EDT
DTSTART:20250309T070000
END:DAYLIGHT
BEGIN:STANDARD
TZOFFSETFROM:-0400
TZOFFSETTO:-0500
TZNAME:EST
DTSTART:20251102T060000
END:STANDARD
BEGIN:DAYLIGHT
TZOFFSETFROM:-0500
TZOFFSETTO:-0400
TZNAME:EDT
DTSTART:20260308T070000
END:DAYLIGHT
BEGIN:STANDARD
TZOFFSETFROM:-0400
TZOFFSETTO:-0500
TZNAME:EST
DTSTART:20261101T060000
END:STANDARD
END:VTIMEZONE
BEGIN:VEVENT
DTSTART;TZID=America/New_York:20250310T200000
DTEND;TZID=America/New_York:20250310T213000
DTSTAMP:20260420T193431
CREATED:20250227T140814Z
LAST-MODIFIED:20250310T162501Z
UID:207-1741636800-1741642200@causeofamerica.org
SUMMARY:Hand Count Training and Exciting Updates!
DESCRIPTION:Join Linda Rantz and the Cause of America team for some exciting updates on hand-counting progress and a training session on how to hand count! \n  \nRegister here: https://events.teams.microsoft.com/event/0b6a8d1c-8a94-4d6b-bf43-7db9a09dbf00@0c837a2f-b02b-464d-9705-ad26bb27e90a
URL:https://causeofamerica.org/event/hand-count-training-and-exciting-updates/
LOCATION:SC
CATEGORIES:Monday Night Call
ATTACH;FMTTYPE=image/png:https://causeofamerica.org/wp-content/uploads/2025/02/coa-logo-filled.png
ORGANIZER;CN="Cause of America":MAILTO:info@causeofamerica.org
END:VEVENT
END:VCALENDAR