BEGIN:VCALENDAR
VERSION:2.0
PRODID:-//Cause of America - ECPv6.15.20//NONSGML v1.0//EN
CALSCALE:GREGORIAN
METHOD:PUBLISH
X-ORIGINAL-URL:https://causeofamerica.org
X-WR-CALDESC:Events for Cause of America
REFRESH-INTERVAL;VALUE=DURATION:PT1H
X-Robots-Tag:noindex
X-PUBLISHED-TTL:PT1H
BEGIN:VTIMEZONE
TZID:America/New_York
BEGIN:DAYLIGHT
TZOFFSETFROM:-0500
TZOFFSETTO:-0400
TZNAME:EDT
DTSTART:20250309T070000
END:DAYLIGHT
BEGIN:STANDARD
TZOFFSETFROM:-0400
TZOFFSETTO:-0500
TZNAME:EST
DTSTART:20251102T060000
END:STANDARD
BEGIN:DAYLIGHT
TZOFFSETFROM:-0500
TZOFFSETTO:-0400
TZNAME:EDT
DTSTART:20260308T070000
END:DAYLIGHT
BEGIN:STANDARD
TZOFFSETFROM:-0400
TZOFFSETTO:-0500
TZNAME:EST
DTSTART:20261101T060000
END:STANDARD
BEGIN:DAYLIGHT
TZOFFSETFROM:-0500
TZOFFSETTO:-0400
TZNAME:EDT
DTSTART:20270314T070000
END:DAYLIGHT
BEGIN:STANDARD
TZOFFSETFROM:-0400
TZOFFSETTO:-0500
TZNAME:EST
DTSTART:20271107T060000
END:STANDARD
END:VTIMEZONE
BEGIN:VTIMEZONE
TZID:America/North_Dakota/Center
BEGIN:DAYLIGHT
TZOFFSETFROM:-0600
TZOFFSETTO:-0500
TZNAME:CDT
DTSTART:20250309T080000
END:DAYLIGHT
BEGIN:STANDARD
TZOFFSETFROM:-0500
TZOFFSETTO:-0600
TZNAME:CST
DTSTART:20251102T070000
END:STANDARD
BEGIN:DAYLIGHT
TZOFFSETFROM:-0600
TZOFFSETTO:-0500
TZNAME:CDT
DTSTART:20260308T080000
END:DAYLIGHT
BEGIN:STANDARD
TZOFFSETFROM:-0500
TZOFFSETTO:-0600
TZNAME:CST
DTSTART:20261101T070000
END:STANDARD
BEGIN:DAYLIGHT
TZOFFSETFROM:-0600
TZOFFSETTO:-0500
TZNAME:CDT
DTSTART:20270314T080000
END:DAYLIGHT
BEGIN:STANDARD
TZOFFSETFROM:-0500
TZOFFSETTO:-0600
TZNAME:CST
DTSTART:20271107T070000
END:STANDARD
END:VTIMEZONE
BEGIN:VTIMEZONE
TZID:America/Denver
BEGIN:DAYLIGHT
TZOFFSETFROM:-0700
TZOFFSETTO:-0600
TZNAME:MDT
DTSTART:20250309T090000
END:DAYLIGHT
BEGIN:STANDARD
TZOFFSETFROM:-0600
TZOFFSETTO:-0700
TZNAME:MST
DTSTART:20251102T080000
END:STANDARD
BEGIN:DAYLIGHT
TZOFFSETFROM:-0700
TZOFFSETTO:-0600
TZNAME:MDT
DTSTART:20260308T090000
END:DAYLIGHT
BEGIN:STANDARD
TZOFFSETFROM:-0600
TZOFFSETTO:-0700
TZNAME:MST
DTSTART:20261101T080000
END:STANDARD
BEGIN:DAYLIGHT
TZOFFSETFROM:-0700
TZOFFSETTO:-0600
TZNAME:MDT
DTSTART:20270314T090000
END:DAYLIGHT
BEGIN:STANDARD
TZOFFSETFROM:-0600
TZOFFSETTO:-0700
TZNAME:MST
DTSTART:20271107T080000
END:STANDARD
END:VTIMEZONE
BEGIN:VEVENT
DTSTART;TZID=America/New_York:20260319T000000
DTEND;TZID=America/New_York:20260319T235959
DTSTAMP:20260420T023514
CREATED:20260312T005459Z
LAST-MODIFIED:20260312T010532Z
UID:24106-1773878400-1773964799@causeofamerica.org
SUMMARY:CT Citizens Count Presents Hand Counted Elections
DESCRIPTION:RSVP Required: Annmzdesk@gmail.com
URL:https://causeofamerica.org/event/ct-citizens-count-presents-hand-counted-elections/
LOCATION:JROOS Restaurant
CATEGORIES:Hand-Count Event
ATTACH;FMTTYPE=image/png:https://causeofamerica.org/wp-content/uploads/2025/02/coa-logo-filled.png
END:VEVENT
BEGIN:VEVENT
DTSTART;TZID=America/North_Dakota/Center:20260319T100000
DTEND;TZID=America/North_Dakota/Center:20260319T140000
DTSTAMP:20260420T023514
CREATED:20260225T011343Z
LAST-MODIFIED:20260225T012255Z
UID:24045-1773914400-1773928800@causeofamerica.org
SUMMARY:Hand Counting of Ballots @ Iowa State Capitol
DESCRIPTION:This will be a demonstration using the Missouri Method of handcounting at the Iowa State Capitol.
URL:https://causeofamerica.org/event/hand-counting-of-ballots-iowa-state-capitol/
LOCATION:Iowa State Capitol\, 1007 East Grand Ave\, Des Moines\, IA\, 50319\, United States
CATEGORIES:Hand-Count Event
ATTACH;FMTTYPE=image/png:https://causeofamerica.org/wp-content/uploads/2025/02/coa-logo-filled.png
ORGANIZER;CN="LORI STILES":MAILTO:stiles4johnston@gmail.com
END:VEVENT
BEGIN:VEVENT
DTSTART;TZID=America/Denver:20260323T090000
DTEND;TZID=America/Denver:20260323T110000
DTSTAMP:20260420T023514
CREATED:20260312T010312Z
LAST-MODIFIED:20260312T010312Z
UID:24113-1774256400-1774263600@causeofamerica.org
SUMMARY:Idaho Ballot Hand Count Training
DESCRIPTION:Want to learn about hand counting ballots? Sign up to participate in a local movement to learn about the process of Hand Counting Ballots in Idaho. \nRSVP Required: jodee.idaho@gmail.com
URL:https://causeofamerica.org/event/idaho-ballot-hand-count-training/
LOCATION:Canyon County Admin Bldg\, 111 N 11th Ave\, Caldwell\, ID\, United States
CATEGORIES:Hand-Count Event
ATTACH;FMTTYPE=image/png:https://causeofamerica.org/wp-content/uploads/2025/02/coa-logo-filled.png
ORGANIZER;CN="Jodee":MAILTO:jodee-idaho@gmail.com
END:VEVENT
BEGIN:VEVENT
DTSTART;TZID=America/New_York:20260406T180000
DTEND;TZID=America/New_York:20260406T210000
DTSTAMP:20260420T023514
CREATED:20260403T131226Z
LAST-MODIFIED:20260403T131226Z
UID:24250-1775498400-1775509200@causeofamerica.org
SUMMARY:Hand Count Road Show With Mark Cook
DESCRIPTION:Come learn hand counting basics from subject expect Mark Cook. \n  \nTo RSVP of for any questions you can reach out at: westernwingalliance@pm.me 
URL:https://causeofamerica.org/event/hand-count-road-show-with-mark-cook/
LOCATION:Charity Baptist Church\, 4079 Battleground Ave. \, Greensboro\, NC\, 27410\, United States
CATEGORIES:Hand-Count Event
ATTACH;FMTTYPE=image/png:https://causeofamerica.org/wp-content/uploads/2025/02/coa-logo-filled.png
ORGANIZER;CN="Joan Roan":MAILTO:westernwingalliance@pm.me 
END:VEVENT
BEGIN:VEVENT
DTSTART;TZID=America/New_York:20260428T180000
DTEND;TZID=America/New_York:20260428T200000
DTSTAMP:20260420T023514
CREATED:20260412T132823Z
LAST-MODIFIED:20260412T132823Z
UID:24283-1777399200-1777406400@causeofamerica.org
SUMMARY:Ballot Hand Count Training Michigan
DESCRIPTION:Hi All: \n  \n \n\nAn essential part of restoring our elections is to hand count ballots at the precinct level on election night.  The process is well developed and being used across the country.   (Learn more at  https://causeofamerica.org/hand-counting-resources/?trk_link=KQSC1VS4K95KB4IK85I40HQJ8G  ). \nHand counting is easy and requires a lot of citizens on election night. Now is the time for each of us to acquire this skill.  I am offering a class\, free of charge\, at \n6:00 PM on \nTuesday\, April 28\, 2026.  We will meet at the \nLenawee County Republican Party office\, \n115 E Maumee St\, Adrian\, Mi.  (next to Hooligans grill) \nI look forward to meeting everyone there.  And bring a neighbor or friend.  Your precinct will need about a dozen hand counters on election night\, so please bring a friend form your own neighborhood. \n\nThanks for your time and dedication!
URL:https://causeofamerica.org/event/ballot-hand-count-training-michigan/
LOCATION:Lenawee County Republican Party office\, 115 E Maumee St\,\, Adrian\, MI\, 49221\, United States
CATEGORIES:Hand-Count Event
ATTACH;FMTTYPE=image/png:https://causeofamerica.org/wp-content/uploads/2025/02/coa-logo-filled.png
ORGANIZER;CN="Matt Witte":MAILTO:handcountlenawee@pm.me
END:VEVENT
END:VCALENDAR