BEGIN:VCALENDAR
VERSION:2.0
PRODID:-//Cause of America - ECPv6.15.20//NONSGML v1.0//EN
CALSCALE:GREGORIAN
METHOD:PUBLISH
X-WR-CALNAME:Cause of America
X-ORIGINAL-URL:https://causeofamerica.org
X-WR-CALDESC:Events for Cause of America
REFRESH-INTERVAL;VALUE=DURATION:PT1H
X-Robots-Tag:noindex
X-PUBLISHED-TTL:PT1H
BEGIN:VTIMEZONE
TZID:America/New_York
BEGIN:DAYLIGHT
TZOFFSETFROM:-0500
TZOFFSETTO:-0400
TZNAME:EDT
DTSTART:20250309T070000
END:DAYLIGHT
BEGIN:STANDARD
TZOFFSETFROM:-0400
TZOFFSETTO:-0500
TZNAME:EST
DTSTART:20251102T060000
END:STANDARD
BEGIN:DAYLIGHT
TZOFFSETFROM:-0500
TZOFFSETTO:-0400
TZNAME:EDT
DTSTART:20260308T070000
END:DAYLIGHT
BEGIN:STANDARD
TZOFFSETFROM:-0400
TZOFFSETTO:-0500
TZNAME:EST
DTSTART:20261101T060000
END:STANDARD
BEGIN:DAYLIGHT
TZOFFSETFROM:-0500
TZOFFSETTO:-0400
TZNAME:EDT
DTSTART:20270314T070000
END:DAYLIGHT
BEGIN:STANDARD
TZOFFSETFROM:-0400
TZOFFSETTO:-0500
TZNAME:EST
DTSTART:20271107T060000
END:STANDARD
END:VTIMEZONE
BEGIN:VEVENT
DTSTART;TZID=America/New_York:20260223T200000
DTEND;TZID=America/New_York:20260223T213000
DTSTAMP:20260425T232107
CREATED:20260209T181649Z
LAST-MODIFIED:20260209T181649Z
UID:23976-1771876800-1771882200@causeofamerica.org
SUMMARY:A Timely Texas Update - Monday night national call
DESCRIPTION:In this national call\, grassroots activists Dr. Walter Daugherity and Lori Gallagher give us an in-depth update on the many election integrity happenings in the great state of Texas. Think this doesn’t pertain to you if you live elsewhere? Think again! Time and time again we see the same patterns repeating in different states–when the fraud happens in another state\, it can happen in yours. But likewise\, when one state has a breakthrough\, other states can employ the same strategy. Come learn about what’s going on in Texas so you can educate yourself and be on the lookout in your own state. Click the link to register for this free meeting.
URL:https://causeofamerica.org/event/a-timely-texas-update-monday-night-national-call/
CATEGORIES:Monday Night Call
ATTACH;FMTTYPE=image/png:https://causeofamerica.org/wp-content/uploads/2025/02/coa-logo-filled.png
ORGANIZER;CN="Cause of America":MAILTO:info@causeofamerica.org
END:VEVENT
END:VCALENDAR