BEGIN:VCALENDAR
VERSION:2.0
PRODID:-//Cause of America - ECPv6.15.20//NONSGML v1.0//EN
CALSCALE:GREGORIAN
METHOD:PUBLISH
X-WR-CALNAME:Cause of America
X-ORIGINAL-URL:https://causeofamerica.org
X-WR-CALDESC:Events for Cause of America
REFRESH-INTERVAL;VALUE=DURATION:PT1H
X-Robots-Tag:noindex
X-PUBLISHED-TTL:PT1H
BEGIN:VTIMEZONE
TZID:America/Chicago
BEGIN:DAYLIGHT
TZOFFSETFROM:-0600
TZOFFSETTO:-0500
TZNAME:CDT
DTSTART:20240310T080000
END:DAYLIGHT
BEGIN:STANDARD
TZOFFSETFROM:-0500
TZOFFSETTO:-0600
TZNAME:CST
DTSTART:20241103T070000
END:STANDARD
BEGIN:DAYLIGHT
TZOFFSETFROM:-0600
TZOFFSETTO:-0500
TZNAME:CDT
DTSTART:20250309T080000
END:DAYLIGHT
BEGIN:STANDARD
TZOFFSETFROM:-0500
TZOFFSETTO:-0600
TZNAME:CST
DTSTART:20251102T070000
END:STANDARD
BEGIN:DAYLIGHT
TZOFFSETFROM:-0600
TZOFFSETTO:-0500
TZNAME:CDT
DTSTART:20260308T080000
END:DAYLIGHT
BEGIN:STANDARD
TZOFFSETFROM:-0500
TZOFFSETTO:-0600
TZNAME:CST
DTSTART:20261101T070000
END:STANDARD
END:VTIMEZONE
BEGIN:VEVENT
DTSTART;TZID=America/Chicago:20251206T110000
DTEND;TZID=America/Chicago:20251206T140000
DTSTAMP:20260419T170714
CREATED:20251124T024608Z
LAST-MODIFIED:20251124T024608Z
UID:23794-1765018800-1765029600@causeofamerica.org
SUMMARY:Hand Count Training with Rick Weible
DESCRIPTION:Learn to Train Others how to Accurately Count Paper Ballots for Verifiable & Transparent Elections.\nEvent Time: 11:00 AM – 1:00 PM (Note: may run until 2 PM.)
URL:https://causeofamerica.org/event/hand-count-training-with-rick-weible-3/
LOCATION:Republican Party of Waukesha County Office\, W238N1700 Rockwood Drive\, Suite C\, Pewaukee\, WI\, 53188\, United States
CATEGORIES:Hand-Count Event
ATTACH;FMTTYPE=image/png:https://causeofamerica.org/wp-content/uploads/2025/02/coa-logo-filled.png
ORGANIZER;CN="Stephanie Harbridge":MAILTO:wirepassy@protonmail.com
END:VEVENT
BEGIN:VEVENT
DTSTART;TZID=America/Chicago:20251206T160000
DTEND;TZID=America/Chicago:20251206T200000
DTSTAMP:20260419T170714
CREATED:20251119T015634Z
LAST-MODIFIED:20251119T015634Z
UID:23740-1765036800-1765051200@causeofamerica.org
SUMMARY:WI Handcount Training
DESCRIPTION:Accurately count paper ballots for verifiable & transparent elections Sponsored by Wisconsin Republican Assembly
URL:https://causeofamerica.org/event/wi-handcount-training/
LOCATION:Rose Garden Cafe & Pizzeria\, 500 Bernard Street\, Watertown\, WI\, 53094\, United States
CATEGORIES:Hand-Count Event
ATTACH;FMTTYPE=image/png:https://causeofamerica.org/wp-content/uploads/2025/02/coa-logo-filled.png
ORGANIZER;CN="Stephanie Harbridge":MAILTO:wirepassy@protonmail.com
END:VEVENT
END:VCALENDAR