BEGIN:VCALENDAR
VERSION:2.0
PRODID:-//Cause of America - ECPv6.15.20//NONSGML v1.0//EN
CALSCALE:GREGORIAN
METHOD:PUBLISH
X-ORIGINAL-URL:https://causeofamerica.org
X-WR-CALDESC:Events for Cause of America
REFRESH-INTERVAL;VALUE=DURATION:PT1H
X-Robots-Tag:noindex
X-PUBLISHED-TTL:PT1H
BEGIN:VTIMEZONE
TZID:America/New_York
BEGIN:DAYLIGHT
TZOFFSETFROM:-0500
TZOFFSETTO:-0400
TZNAME:EDT
DTSTART:20240310T070000
END:DAYLIGHT
BEGIN:STANDARD
TZOFFSETFROM:-0400
TZOFFSETTO:-0500
TZNAME:EST
DTSTART:20241103T060000
END:STANDARD
BEGIN:DAYLIGHT
TZOFFSETFROM:-0500
TZOFFSETTO:-0400
TZNAME:EDT
DTSTART:20250309T070000
END:DAYLIGHT
BEGIN:STANDARD
TZOFFSETFROM:-0400
TZOFFSETTO:-0500
TZNAME:EST
DTSTART:20251102T060000
END:STANDARD
BEGIN:DAYLIGHT
TZOFFSETFROM:-0500
TZOFFSETTO:-0400
TZNAME:EDT
DTSTART:20260308T070000
END:DAYLIGHT
BEGIN:STANDARD
TZOFFSETFROM:-0400
TZOFFSETTO:-0500
TZNAME:EST
DTSTART:20261101T060000
END:STANDARD
END:VTIMEZONE
BEGIN:VEVENT
DTSTART;TZID=America/New_York:20250609T200000
DTEND;TZID=America/New_York:20250609T213000
DTSTAMP:20260420T030653
CREATED:20250605T180930Z
LAST-MODIFIED:20250605T180930Z
UID:4345-1749499200-1749504600@causeofamerica.org
SUMMARY:Dr. Daugherity takes us on a Deep Dive about Fake Counts
DESCRIPTION:Dr. Walte \nNationally-Recognized Computer Expert \n\nDr. Walter C. Daugherity is a computer consultant and also Senior Lecturer Emeritus in the Department of Computer Science and Engineering at Texas A&M University. He graduated from Oklahoma Christian University with a degree in mathematics\, and then earned master’s and doctor’s degrees from Harvard University\, which he attended on a Prize Fellowship from the National Science Foundation. \n\n\n\n\n\n\n\n\n\n\n\n\n\n\n\n\n\nAs a computer expert\, Dr. Daugherity has consulted for major national and international firms\, and for government agencies\, including classified work. He helped develop the national computer keyboard standard and invented integrated user training within computer applications as well as various electronic computer interfaces. As a computer science and engineering teacher and researcher\, he has published 26 research articles from over $2.8 million in funded research projects\, plus conference papers and other publications. He taught many areas of computer science and engineering for 37 years (32 years at Texas A&M University)\, including artificial intelligence\, quantum computing\, programming and software design\, and cyberethics. At Harvard he received the Bowdoin Prize and medal for writing\, and in 2015 was named a Distinguished Alumnus of Oklahoma Christian University. He is a life member of the Association for Computing Machinery and American MENSA. \n\nCAUSE OF AMERICA PRESENTS: \nDR. WALTER DAUGHERITY \nJoin us for our first Deep Dive into Fake Counts\, where we’ll dig into what happened in Arapahoe County\, Colorado and similar findings in other states and counties.\nDate: June 9\, 2025 | Time: 5 PM Pacific | 6PM Mountain | 7 PM Central | 8:00 PM Eastern  \nWe look forward to seeing you all Monday! \nDon’t miss out—register now to secure your spot!  ⤵️ \nhttps://events.teams.microsoft.com/event/764c2786-36e0-4a63-968d-6657de05e0da@0c837a2f-b02b-464d-9705-ad26bb27e90a
URL:https://causeofamerica.org/event/dr-daugherity-takes-us-on-a-deep-dive-about-fake-counts/
LOCATION:Virtual
CATEGORIES:Monday Night Call
ATTACH;FMTTYPE=image/jpeg:https://causeofamerica.org/wp-content/uploads/2025/06/image-of-walter-daugherty.jpg
ORGANIZER;CN="Cause of America":MAILTO:info@causeofamerica.org
END:VEVENT
END:VCALENDAR