BEGIN:VCALENDAR
VERSION:2.0
PRODID:-//Cause of America - ECPv6.15.20//NONSGML v1.0//EN
CALSCALE:GREGORIAN
METHOD:PUBLISH
X-ORIGINAL-URL:https://causeofamerica.org
X-WR-CALDESC:Events for Cause of America
REFRESH-INTERVAL;VALUE=DURATION:PT1H
X-Robots-Tag:noindex
X-PUBLISHED-TTL:PT1H
BEGIN:VTIMEZONE
TZID:America/New_York
BEGIN:DAYLIGHT
TZOFFSETFROM:-0500
TZOFFSETTO:-0400
TZNAME:EDT
DTSTART:20240310T070000
END:DAYLIGHT
BEGIN:STANDARD
TZOFFSETFROM:-0400
TZOFFSETTO:-0500
TZNAME:EST
DTSTART:20241103T060000
END:STANDARD
BEGIN:DAYLIGHT
TZOFFSETFROM:-0500
TZOFFSETTO:-0400
TZNAME:EDT
DTSTART:20250309T070000
END:DAYLIGHT
BEGIN:STANDARD
TZOFFSETFROM:-0400
TZOFFSETTO:-0500
TZNAME:EST
DTSTART:20251102T060000
END:STANDARD
BEGIN:DAYLIGHT
TZOFFSETFROM:-0500
TZOFFSETTO:-0400
TZNAME:EDT
DTSTART:20260308T070000
END:DAYLIGHT
BEGIN:STANDARD
TZOFFSETFROM:-0400
TZOFFSETTO:-0500
TZNAME:EST
DTSTART:20261101T060000
END:STANDARD
END:VTIMEZONE
BEGIN:VEVENT
DTSTART;TZID=America/New_York:20250428T200000
DTEND;TZID=America/New_York:20250428T213000
DTSTAMP:20260420T044834
CREATED:20250401T193811Z
LAST-MODIFIED:20250428T181823Z
UID:2353-1745870400-1745875800@causeofamerica.org
SUMMARY:State of the Union with Shawn Smith
DESCRIPTION:Col. Shawn Smith\, (Ret.) Air Force \nShawn Smith retired as an Air Force colonel with over 25 years active duty in space and missile operations\, director and test manager for operational testing of weapon systems\, USAF Fellow to RAND Corporation\, installation and squadron commander\, and four years as senior military evaluator for Space\, Intelligence\, Surveillance and Reconnaissance Systems under Director\, Operational Test\, and Evaluation (DOT&E)\, Office of the Secretary of Defense\, exercising oversight of test design\, execution\, and reporting\, advising Congress and senior Department of Defense leaders on operational effectiveness and suitability of critical\, complex DoD space programs (e.g. Global Positioning System)\, costing over $45 billion. He has also been consultant on adversarial assessment special projects for Department of Defense.\n\n\n\nCOL. SHAWN SMITH AND CAUSE OF AMERICA PRESENT: \nSTATE OF THE UNION  \nTonight’s Monday night national call will be streamed on X.  Join us for a lively update by Col. Shawn Smith (Ret.)\, Air Force as he provides detailed information and insight about election integrity as it relates to the state of our union. \nNext week\, we’ll return to our usual Microsoft Teams platform\, but be sure to join us on X for this live stream. \nhttps://x.com/i/spaces/1YqJDZbjLgQKV \nDate: TODAY! April 28\, 2025 \nTime: 7:00 PM CT | 8:00 PM ET   \nWe look forward to seeing you all!
URL:https://causeofamerica.org/event/state-of-the-union-with-shawn-smith/
LOCATION:MI
CATEGORIES:Monday Night Call
ATTACH;FMTTYPE=image/png:https://causeofamerica.org/wp-content/uploads/2025/02/coa-logo-filled.png
END:VEVENT
END:VCALENDAR